1.0000000000
0.0000000000
0.0000000000
-1.0000000000
531382.5000000000
4504463.5000000000
