1.0000000000
0.0000000000
0.0000000000
-1.0000000000
541905.5000000000
4511461.5000000000
