1.0000000000
0.0000000000
0.0000000000
-1.0000000000
547225.5000000000
4504559.5000000000
