1.0000000000
0.0000000000
0.0000000000
-1.0000000000
552457.5000000000
4511536.5000000000
