1.0000000000
0.0000000000
0.0000000000
-1.0000000000
568286.5000000000
4511677.5000000000
