1.0000000000
0.0000000000
0.0000000000
-1.0000000000
563010.5000000000
4511626.5000000000
