1.0000000000
0.0000000000
0.0000000000
-1.0000000000
563069.5000000000
4504688.5000000000
