1.0000000000
0.0000000000
0.0000000000
-1.0000000000
578838.5000000000
4511790.5000000000
