1.0000000000
0.0000000000
0.0000000000
-1.0000000000
578912.5000000000
4504852.5000000000
