1.0000000000
0.0000000000
0.0000000000
-1.0000000000
504982.5000000000
4497441.5000000000
