1.0000000000
0.0000000000
0.0000000000
-1.0000000000
504986.5000000000
4490503.5000000000
