1.0000000000
0.0000000000
0.0000000000
-1.0000000000
252165.5000000000
4536278.5000000000
