1.0000000000
0.0000000000
0.0000000000
-1.0000000000
246898.5000000000
4536457.5000000000
