1.0000000000
0.0000000000
0.0000000000
-1.0000000000
262923.5000000000
4542871.5000000000
