1.0000000000
0.0000000000
0.0000000000
-1.0000000000
257661.5000000000
4543042.5000000000
