1.0000000000
0.0000000000
0.0000000000
-1.0000000000
262700.5000000000
4535932.5000000000
