1.0000000000
0.0000000000
0.0000000000
-1.0000000000
283972.5000000000
4542224.5000000000
