1.0000000000
0.0000000000
0.0000000000
-1.0000000000
283768.5000000000
4535285.5000000000
