1.0000000000
0.0000000000
0.0000000000
-1.0000000000
294302.5000000000
4534983.5000000000
