1.0000000000
0.0000000000
0.0000000000
-1.0000000000
289035.5000000000
4535132.5000000000
