1.0000000000
0.0000000000
0.0000000000
-1.0000000000
305020.5000000000
4541636.5000000000
