1.0000000000
0.0000000000
0.0000000000
-1.0000000000
299569.5000000000
4534839.5000000000
