1.0000000000
0.0000000000
0.0000000000
-1.0000000000
310103.5000000000
4534560.5000000000
