1.0000000000
0.0000000000
0.0000000000
-1.0000000000
251932.5000000000
4529339.5000000000
