1.0000000000
0.0000000000
0.0000000000
-1.0000000000
246660.5000000000
4529518.5000000000
