1.0000000000
0.0000000000
0.0000000000
-1.0000000000
267749.5000000000
4528825.5000000000
