1.0000000000
0.0000000000
0.0000000000
-1.0000000000
272808.5000000000
4521723.5000000000
