1.0000000000
0.0000000000
0.0000000000
-1.0000000000
294109.5000000000
4528045.5000000000
