1.0000000000
0.0000000000
0.0000000000
-1.0000000000
288837.5000000000
4528193.5000000000
