1.0000000000
0.0000000000
0.0000000000
-1.0000000000
288639.5000000000
4521254.5000000000
