1.0000000000
0.0000000000
0.0000000000
-1.0000000000
304653.5000000000
4527759.5000000000
