1.0000000000
0.0000000000
0.0000000000
-1.0000000000
299193.5000000000
4520961.5000000000
