1.0000000000
0.0000000000
0.0000000000
-1.0000000000
325740.5000000000
4527232.5000000000
