1.0000000000
0.0000000000
0.0000000000
-1.0000000000
320468.5000000000
4527358.5000000000
