1.0000000000
0.0000000000
0.0000000000
-1.0000000000
272596.5000000000
4514784.5000000000
