1.0000000000
0.0000000000
0.0000000000
-1.0000000000
272384.5000000000
4507845.5000000000
