1.0000000000
0.0000000000
0.0000000000
-1.0000000000
293723.5000000000
4514167.5000000000
