1.0000000000
0.0000000000
0.0000000000
-1.0000000000
288442.5000000000
4514315.5000000000
