1.0000000000
0.0000000000
0.0000000000
-1.0000000000
309569.5000000000
4513744.5000000000
