1.0000000000
0.0000000000
0.0000000000
-1.0000000000
314678.5000000000
4506672.5000000000
