1.0000000000
0.0000000000
0.0000000000
-1.0000000000
325251.5000000000
4506417.5000000000
