1.0000000000
0.0000000000
0.0000000000
-1.0000000000
251004.5000000000
4501582.5000000000
