1.0000000000
0.0000000000
0.0000000000
-1.0000000000
250773.5000000000
4494643.5000000000
