1.0000000000
0.0000000000
0.0000000000
-1.0000000000
746759.5000000000
4543398.5000000000
