1.0000000000
0.0000000000
0.0000000000
-1.0000000000
746992.5000000000
4536459.5000000000
