1.0000000000
0.0000000000
0.0000000000
-1.0000000000
747226.5000000000
4529520.5000000000
