1.0000000000
0.0000000000
0.0000000000
-1.0000000000
748850.5000000000
4480946.5000000000
