1.0000000000
0.0000000000
0.0000000000
-1.0000000000
749080.5000000000
4474007.5000000000
