1.0000000000
0.0000000000
0.0000000000
-1.0000000000
749311.5000000000
4467068.5000000000
