1.0000000000
0.0000000000
0.0000000000
-1.0000000000
749541.5000000000
4460129.5000000000
